BEGIN:VCALENDAR
VERSION:2.0
PRODID:-//ChamberMaster//Event Calendar 2.0//EN
METHOD:PUBLISH
X-PUBLISHED-TTL:P3D
REFRESH-INTERVAL:P3D
CALSCALE:GREGORIAN
BEGIN:VEVENT
DTSTART:20210826T210000Z
DTEND:20210826T230000Z
X-MICROSOFT-CDO-ALLDAYEVENT:FALSE
SUMMARY:Business Card Exchange
DESCRIPTION:Business Card Exchange\, Thurs.\, August 26\, 5:00 p.m. - 7:00 p.m. at Kia of Port Charlotte\, 202 Tamiami Trail\, Port Charlotte. Members Networking and If you like\, please bring a small gift to promote your business.
X-ALT-DESC;FMTTYPE=text/html:<strong><span style="color:#294B93\;"><span style="font-family:arial\,sans-serif\;"><span style="font-size:10.5pt\;">Business Card Exchange</span></span></span></strong><span style="color:#294B93\;"><span style="font-family:arial\,sans-serif\;"><span style="font-size:10.5pt\;">\, Thurs.\, August 26\, 5:00 p.m. - 7:00 p.m. at Kia of Port Charlotte\, 202 Tamiami Trail\, Port Charlotte. </span></span></span><span style="background:#479B46\;"><span style="color:white\;"><span style="font-family:arial\,sans-serif\;"><span style="font-size:10.5pt\;">Members Networking</span></span></span></span> <span style="color:#294B93\;"><span style="font-family:arial\,sans-serif\;"><span style="font-size:10.5pt\;">and If you like\, please bring a small gift to promote your business.</span></span></span>
LOCATION:
UID:e.3611.1736
SEQUENCE:3
DTSTAMP:20260422T111756Z
URL:https://charlottecountychamber-gzcms.preview.gochambermaster.com/events/details/business-card-exchange-1736
END:VEVENT

END:VCALENDAR
