BEGIN:VCALENDAR
VERSION:2.0
PRODID:-//ChamberMaster//Event Calendar 2.0//EN
METHOD:PUBLISH
X-PUBLISHED-TTL:P3D
REFRESH-INTERVAL:P3D
CALSCALE:GREGORIAN
BEGIN:VEVENT
DTSTART:20220212T210000Z
DTEND:20220213T030000Z
X-MICROSOFT-CDO-ALLDAYEVENT:FALSE
SUMMARY:American Vinyl Music Festival
DESCRIPTION:Benefit Concert featuring Legends of Rock n Roll . Some former and present members of the biggest Classic Rock Bands on the planet get together to play their hits.Including artists from SteelyDan\,TheDoobieBrothers\,Boston\,The James Brown Band\, Bon Jovi\,Kansas\,The Romantics\,Lynyrd Skynyrd\,The Wailers and more
X-ALT-DESC;FMTTYPE=text/html:Benefit Concert featuring Legends of Rock n Roll . Some former and present members of the biggest Classic Rock Bands on the planet get together to play their hits.Including artists from SteelyDan\,TheDoobieBrothers\,Boston\,The James Brown Band\, Bon Jovi\,Kansas\,The Romantics\,Lynyrd Skynyrd\,The Wailers and more
LOCATION:Charlotte County Fairgrounds
UID:e.3611.2232
SEQUENCE:3
DTSTAMP:20260420T234746Z
URL:https://charlottecountychamber-gzcms.preview.gochambermaster.com/events/details/american-vinyl-music-festival-2232
END:VEVENT

END:VCALENDAR
