BEGIN:VCALENDAR
VERSION:2.0
PRODID:-//ChamberMaster//Event Calendar 2.0//EN
METHOD:PUBLISH
X-PUBLISHED-TTL:P3D
REFRESH-INTERVAL:P3D
CALSCALE:GREGORIAN
BEGIN:VEVENT
DTSTART:20190826T170000Z
DTEND:20191231T000000Z
X-MICROSOFT-CDO-ALLDAYEVENT:FALSE
SUMMARY:3rd Annual Chamber Tree Lighting & Marketplace - Friday\, December 13\, 2019
DESCRIPTION:
X-ALT-DESC;FMTTYPE=text/html:
LOCATION:Charlotte County Administrators Building & Outlying Areas18500 Murdock Cir. Port Charlotte\, FL 339481094
UID:e.3611.213
SEQUENCE:3
DTSTAMP:20260425T031854Z
URL:https://charlottecountychamber-gzcms.preview.gochambermaster.com/events/details/3rd-annual-chamber-tree-lighting-marketplace-friday-december-13-2019-08-26-2019-213
END:VEVENT

END:VCALENDAR
