BEGIN:VCALENDAR
VERSION:2.0
PRODID:-//ChamberMaster//Event Calendar 2.0//EN
METHOD:PUBLISH
X-PUBLISHED-TTL:P3D
REFRESH-INTERVAL:P3D
CALSCALE:GREGORIAN
BEGIN:VEVENT
DTSTART:20200912T104500Z
DTEND:20200912T190000Z
X-MICROSOFT-CDO-ALLDAYEVENT:FALSE
SUMMARY:12th Annual Suncoast Redfish Spot Tournament
DESCRIPTION:Photo Release Redfish Spot Tournament. Going out of 3 locations - Placida Ramp-Charlotte Harbor\; Ken Thompson Park-Sarasota\; Maximo Ramp-Tampa Bay. Over $5\,000 in prizes - Redfish with the most spots WINS!!!! 1st Place - $2\,500 - 2nd Place - $1\,000 - 3rd Place - $500\n\n\n\nRegistration and Captain's Meeting will include a meal & drink\, awesome raffles\, and more!\n\n\n\nAll proceeds benefit Gator Wilderness Camp School......
X-ALT-DESC;FMTTYPE=text/html:<span style="background-color:rgb(255\, 255\, 255)\; color:rgb(51\, 51\, 51)\; font-family:sans-serif\,arial\,verdana\,trebuchet ms\; font-size:13px">Photo Release Redfish Spot Tournament. Going out of 3 locations - Placida Ramp-Charlotte Harbor\; Ken Thompson Park-Sarasota\; Maximo Ramp-Tampa Bay. Over $5\,000 in prizes - Redfish with the most spots WINS!!!! 1st Place - $2\,500 - 2nd Place - $1\,000 - 3rd Place - $500</span><br />\n<br />\n<span style="background-color:rgb(255\, 255\, 255)\; color:rgb(51\, 51\, 51)\; font-family:sans-serif\,arial\,verdana\,trebuchet ms\; font-size:13px">Registration and Captain&#39\;s Meeting will include a meal &amp\; drink\, awesome raffles\, and more!</span><br />\n<br />\n<span style="background-color:rgb(255\, 255\, 255)\; color:rgb(51\, 51\, 51)\; font-family:sans-serif\,arial\,verdana\,trebuchet ms\; font-size:13px">All proceeds benefit Gator Wilderness Camp School......</span>
LOCATION:Registration and Captain's Meeting Bethel Mennonite Church Pavilion 2985 Bethel Lane Sarasota\, FL 34240 Redfish Spot Tournament 3 Entry Locations Placida Ramp - Charlotte Harbor Ken Thompson Park - Sarasota Maximo Ramp - Tampa Bay
UID:e.3611.1107
SEQUENCE:3
DTSTAMP:20260423T233557Z
URL:https://charlottecountychamber-gzcms.preview.gochambermaster.com/events/details/12th-annual-suncoast-redfish-spot-tournament-1107
END:VEVENT

END:VCALENDAR
