BEGIN:VCALENDAR
VERSION:2.0
PRODID:-//ChamberMaster//Event Calendar 2.0//EN
METHOD:PUBLISH
X-PUBLISHED-TTL:P3D
REFRESH-INTERVAL:P3D
CALSCALE:GREGORIAN
BEGIN:VEVENT
DTSTART:20211024T110000Z
DTEND:20211024T110000Z
X-MICROSOFT-CDO-ALLDAYEVENT:FALSE
SUMMARY:11th Anniversary Tour de North Port
DESCRIPTION:A scenic\, on-road bicycle ride that features the beautiful natural settings of Nort Port including the Myakkahatchee Creek\, its pine and oak canopy and parks.\n\n\n\nChoose your distance:  15\, 35\, or 65 Miles.  The Tour de North Port is NOT a race.
X-ALT-DESC;FMTTYPE=text/html:A scenic\, on-road bicycle ride that features the beautiful natural settings of Nort Port including the Myakkahatchee Creek\, its pine and oak canopy and parks.<br />\n<br />\nChoose your distance:&nbsp\; 15\, 35\, or 65 Miles.&nbsp\; The Tour de North Port is NOT a race.
LOCATION:Imagine School 2757 Sycamore Street North Port\, FL
UID:e.3611.1762
SEQUENCE:3
DTSTAMP:20260421T204053Z
URL:https://charlottecountychamber-gzcms.preview.gochambermaster.com/events/details/11th-anniversary-tour-de-north-port-1762
END:VEVENT

END:VCALENDAR
